BEGIN:VCALENDAR
VERSION:2.0
PRODID:-//e bene venga maggio - ECPv6.15.20//NONSGML v1.0//EN
CALSCALE:GREGORIAN
METHOD:PUBLISH
X-ORIGINAL-URL:https://www.ebenevengamaggio.it
X-WR-CALDESC:Eventi per e bene venga maggio
REFRESH-INTERVAL;VALUE=DURATION:PT1H
X-Robots-Tag:noindex
X-PUBLISHED-TTL:PT1H
BEGIN:VTIMEZONE
TZID:Europe/Rome
BEGIN:DAYLIGHT
TZOFFSETFROM:+0100
TZOFFSETTO:+0200
TZNAME:CEST
DTSTART:20230326T010000
END:DAYLIGHT
BEGIN:STANDARD
TZOFFSETFROM:+0200
TZOFFSETTO:+0100
TZNAME:CET
DTSTART:20231029T010000
END:STANDARD
BEGIN:DAYLIGHT
TZOFFSETFROM:+0100
TZOFFSETTO:+0200
TZNAME:CEST
DTSTART:20240331T010000
END:DAYLIGHT
BEGIN:STANDARD
TZOFFSETFROM:+0200
TZOFFSETTO:+0100
TZNAME:CET
DTSTART:20241027T010000
END:STANDARD
BEGIN:DAYLIGHT
TZOFFSETFROM:+0100
TZOFFSETTO:+0200
TZNAME:CEST
DTSTART:20250330T010000
END:DAYLIGHT
BEGIN:STANDARD
TZOFFSETFROM:+0200
TZOFFSETTO:+0100
TZNAME:CET
DTSTART:20251026T010000
END:STANDARD
END:VTIMEZONE
BEGIN:VEVENT
DTSTART;TZID=Europe/Rome:20240620T203000
DTEND;TZID=Europe/Rome:20240623T233000
DTSTAMP:20260421T204733
CREATED:20240511T092747Z
LAST-MODIFIED:20240529T142409Z
UID:1477-1718915400-1719185400@www.ebenevengamaggio.it
SUMMARY:Festival "che non venisse mai giorno! 2024 : (s)concerto in ballo
DESCRIPTION:LE SERATE \ CONCERTI \nGiovedì 20 Giugno\nPiazza del borgo di Piamaggio – Monghidoro (in caso di maltempo: Sala parrocchiale di Piamaggio) \n\nore 20.30: Face’d Tola\nore 21.45: I Suonatori della Valle del Savena\nore 22.30: Paranza mediterranea\nStand con crescentine dalle ore 19\n\nVenerdì 21 Giugno\nPiazza Cavalier Gitti\, Monghidoro (in caso di maltempo: Sala comunale di Monghidoro) \n\nore 20.30: Anaís Falcó Ibàñez e Jaumi Casalí Cataluña\, España\nore 21.45: Face’d Tola\nore 22.30: Paranza Mediterranea\n\nSabato 22 Giugno\nArea SalviniLand – Via delle scope\, Bisano di Monterenzio \n\nore 20.30: Anaís Falcó Ibàñez e Jaumi Casalí Cataluña\, España\nore 21.45: Face’d Tola\nore 22.30: I suonatori della Valle del Savena\nStand gastronomico dalle ore 19\n\n\nLE GIORNATE \ LABORATORI \nVenerdì 21 Giugno\nSala comunale\, Monghidoro \n\nore 10-12: I balli antichi staccati della Valle del Savena: stage di danza con Elisa Lorenzini e Carolina Conventi\nore 10-12: Io canto serio: il canto in Campania con Biagio De Prisco – Paranza Mediterranea\nore 12-13: Canto in strada. Aperitivo presso i bar aderenti con Paranza Mediterranea\nore 15-17: Laboratorio di ballo sul tamburo campano con Paranza Mediterranea\nore 15-17: Laboratorio di musica insieme: la musica della Valle del Savena con Dina Staro e I Suonatori della Valle del Savena\nore 17.30-18.30: Canto in strada. Aperitivo presso i bar aderenti con La Compagnia del maggio e I suonatori della Valle del Savena\n\nSabato 22 Giugno\nSala comunale\, Monghidoro \n\nore 10-12: I balli antichi staccati della Valle del Savena: stage di danza con Elisa Lorenzini e Carolina Conventi\nore 10-12: Io canto triste: laboratorio di canto Emila-Romagna con Dina Staro\nore 12-13: Canto in strada. Aperitivi presso i bar aderenti con Anaís Falcó Ibàñez e Jaumi Casalí Cataluña\nore 15-17: Laboratorio di ballo della Cataluña (Spagna) con Anaís Falcó Ibàñez e Jaumi Casalí (Cataluña)\nore 15-17: Io canto cialtrone: laboratorio di canti infimi con Face’d tola – Piemonte\nore 17.30-18.30: Canto in strada. Aperitivo presso i bar aderenti con Face ’ d Tola\n\nDomenica 23 Giugno\nRifugio del Fantorno\, Via San Pietro\, 70 Alpe di Monghidoro \n\nore 10.00: (s)concerto nei boschi in cammino sull’alpe con i musicisti del Festival\nOre 12.00: presentazione del CD “Catene d’oro e coltelli d’argento” con Dina Staro e Ricardo Tomba\nore 13.00: Cantiam … pranzando! Canto cialtrone condiviso con i musicisti del Festival\nOre 15.00: (S)concerto in ballo\, anche cialtrone\, con i gruppi del Festival\n\n\nI Gruppi \n\nI Suonatori della Valle del Savena (Emilia-Romagna)\nParanza Mediterranea (Campania)\nAnaís Falcó Ibàñez e Jaumi Casalí (Cataluña\, España)\nFace’d tola (Piemonte)\n\n\nCosti \n\nIntero festival (inclusi concerti e laboratori di danza): € 120\,00\n2 giornate (venerdì e sabato): € 90\,00\n1 giornata (venerdì o sabato): € 50\,00\nDomenica\, incluso pranzo: € 30\,00\nSingoli laboratori di canto e strumento (minimo 5 iscritti): € 20\,00\n\n\nIscrizioni ed informazioni: \ninfo@ebenevengamaggio.it\ncell: 339 3661488 (Elisa\, orari: 10-14 /17-20) \nATTENZIONE! Le iscrizioni si chiuderanno il 16 giugno 2024
URL:https://www.ebenevengamaggio.it/index.php/event/festival-che-non-venisse-mai-giorno-2024-sconcerto-in-ballo/
LOCATION:Monghidoro\, Monghidoro\, 40063\, Italia
CATEGORIES:Festival
ATTACH;FMTTYPE=image/jpeg:https://www.ebenevengamaggio.it/wp-content/uploads/2024/05/440748374_884403833715640_6567574697402374687_n.jpg
ORGANIZER;CN="Associazione Culturale E Bene Venga Maggio":MAILTO:info@ebenevengamaggio.it
END:VEVENT
END:VCALENDAR