BEGIN:VCALENDAR
VERSION:2.0
PRODID:-//e bene venga maggio - ECPv6.15.20//NONSGML v1.0//EN
CALSCALE:GREGORIAN
METHOD:PUBLISH
X-ORIGINAL-URL:https://www.ebenevengamaggio.it
X-WR-CALDESC:Eventi per e bene venga maggio
REFRESH-INTERVAL;VALUE=DURATION:PT1H
X-Robots-Tag:noindex
X-PUBLISHED-TTL:PT1H
BEGIN:VTIMEZONE
TZID:Europe/Rome
BEGIN:DAYLIGHT
TZOFFSETFROM:+0100
TZOFFSETTO:+0200
TZNAME:CEST
DTSTART:20230326T010000
END:DAYLIGHT
BEGIN:STANDARD
TZOFFSETFROM:+0200
TZOFFSETTO:+0100
TZNAME:CET
DTSTART:20231029T010000
END:STANDARD
BEGIN:DAYLIGHT
TZOFFSETFROM:+0100
TZOFFSETTO:+0200
TZNAME:CEST
DTSTART:20240331T010000
END:DAYLIGHT
BEGIN:STANDARD
TZOFFSETFROM:+0200
TZOFFSETTO:+0100
TZNAME:CET
DTSTART:20241027T010000
END:STANDARD
BEGIN:DAYLIGHT
TZOFFSETFROM:+0100
TZOFFSETTO:+0200
TZNAME:CEST
DTSTART:20250330T010000
END:DAYLIGHT
BEGIN:STANDARD
TZOFFSETFROM:+0200
TZOFFSETTO:+0100
TZNAME:CET
DTSTART:20251026T010000
END:STANDARD
END:VTIMEZONE
BEGIN:VEVENT
DTSTART;TZID=Europe/Rome:20240414T123000
DTEND;TZID=Europe/Rome:20240414T180000
DTSTAMP:20260422T025512
CREATED:20240319T140826Z
LAST-MODIFIED:20240319T141335Z
UID:1445-1713097800-1713117600@www.ebenevengamaggio.it
SUMMARY:Pranzo sociale
DESCRIPTION:Domenica 14 Aprile 2024 presso gli impianti sportivi di Campeggio (Monghidoro)\, Largo Canonico Bonafe n° 2. \nOre 10 – assemblea generale \nOre 12\,30 – pranzo \nA seguire ballo coi Suonatori della Valle del Savena \nMenù a 25 € a persona (disponibilità di varianti vegetariane). Prenotazioni entro venerdì 5 Aprile a:  \nDiego 3312200986 o Maria 3388120917
URL:https://www.ebenevengamaggio.it/index.php/event/pranzo-sociale/
LOCATION:Monghidoro\, Monghidoro\, 40063\, Italia
CATEGORIES:pranzi
ATTACH;FMTTYPE=image/jpeg:https://www.ebenevengamaggio.it/wp-content/uploads/2024/03/PDF-Volantino-Pranzo-Sociale-14.4.2024-scaled.jpg
ORGANIZER;CN="Associazione Culturale E Bene Venga Maggio":MAILTO:info@ebenevengamaggio.it
END:VEVENT
END:VCALENDAR