BEGIN:VCALENDAR
VERSION:2.0
PRODID:-//e bene venga maggio - ECPv6.15.20//NONSGML v1.0//EN
CALSCALE:GREGORIAN
METHOD:PUBLISH
X-WR-CALNAME:e bene venga maggio
X-ORIGINAL-URL:https://www.ebenevengamaggio.it
X-WR-CALDESC:Eventi per e bene venga maggio
REFRESH-INTERVAL;VALUE=DURATION:PT1H
X-Robots-Tag:noindex
X-PUBLISHED-TTL:PT1H
BEGIN:VTIMEZONE
TZID:Europe/Rome
BEGIN:DAYLIGHT
TZOFFSETFROM:+0100
TZOFFSETTO:+0200
TZNAME:CEST
DTSTART:20220327T010000
END:DAYLIGHT
BEGIN:STANDARD
TZOFFSETFROM:+0200
TZOFFSETTO:+0100
TZNAME:CET
DTSTART:20221030T010000
END:STANDARD
BEGIN:DAYLIGHT
TZOFFSETFROM:+0100
TZOFFSETTO:+0200
TZNAME:CEST
DTSTART:20230326T010000
END:DAYLIGHT
BEGIN:STANDARD
TZOFFSETFROM:+0200
TZOFFSETTO:+0100
TZNAME:CET
DTSTART:20231029T010000
END:STANDARD
BEGIN:DAYLIGHT
TZOFFSETFROM:+0100
TZOFFSETTO:+0200
TZNAME:CEST
DTSTART:20240331T010000
END:DAYLIGHT
BEGIN:STANDARD
TZOFFSETFROM:+0200
TZOFFSETTO:+0100
TZNAME:CET
DTSTART:20241027T010000
END:STANDARD
BEGIN:DAYLIGHT
TZOFFSETFROM:+0100
TZOFFSETTO:+0200
TZNAME:CEST
DTSTART:20250330T010000
END:DAYLIGHT
BEGIN:STANDARD
TZOFFSETFROM:+0200
TZOFFSETTO:+0100
TZNAME:CET
DTSTART:20251026T010000
END:STANDARD
END:VTIMEZONE
BEGIN:VEVENT
DTSTART;TZID=Europe/Rome:20240330T080000
DTEND;TZID=Europe/Rome:20240401T233000
DTSTAMP:20260423T032631
CREATED:20240110T111704Z
LAST-MODIFIED:20240209T105024Z
UID:1315-1711785600-1712014200@www.ebenevengamaggio.it
SUMMARY:Corsi residenziali sui balli antichi dell'Appennino bolognese
DESCRIPTION:Incontro con la cultura dei balli antichi staccati dell’Appennino Bolognese: corsi residenziali di ballo.\nDirezione artistica: Dina Staro\nDirezione organizzativa: Elisa Lorenzini\nCollaborazione di: Luana Bassi\, Franco Benni e altri soci dell’Associazione ‘e bene venga maggio’\nCol patrocinio del Comune di Monghidoro\nGli incontri 2024 saranno tenuti da:\nDina Staro: fondatrice EBVM\, presidente ICTMD Ethnochoreology Study Group\, violinista cantante de I Suonatori della Valle del Savena e in altre formazioni\, docente ed etnomusicologa.\nElisa Lorenzini: violinista\, e musicista in altre formazioni\, coordinatrice de I Suonatori della Valle del Savena.\nCarolina Conventi: violinista de I Suonatori della Valle del Savena\, insegnante\, etnomusicologa.\nRicardo Tomba: percussionista de I Suonatori della Valle del Savena e in altre formazioni\, insegnante\, coordinatore “Piccola Scuola di Musica e Danza “Riccardo Venier”.\nGli insegnanti compiranno un percorso con i partecipanti su 2 diversi livelli\, avvicendandosi parzialmente nelle diverse giornate.\nLivello 1: Uno spazio per danzare\, un tempo per ballare.\nGli elementi di base per danzare secondo la cultura della Valle del Savena: tempo\, spazio\, gestualità\, figurazioni e coreografie di balli collettivi\, di gruppo e di coppia.\nDal Manfrone alla Giga l’obiettivo minimo ma… non poniamo limiti …\nLivello 2: Ma… siamo ancora in ballo?\nIl secondo livello prevede la conoscenza delle figurazioni e coreografie dei balli dell’Appennino bolognese\, non necessariamente TUTTE. Si consiglia un contraddittorio approccio al divertimento sconsiderato unito all’apertura\nall’introspezione. Ci si occuperà di: varianti metrico-ritmiche\, varianti di genere\, varianti di età\, dinamiche di interazione\, varianti “storiche”\, balli desueti. \nPROGRAMMA \nSabato 30 marzo\n– ore 10 – 10.30: iscrizioni presso la Sala Comunale (Via Matteotti n. 1)\n– ore 10.30-12.30 / 15.00– 18.00 Corsi residenziali di ballo montanaro\n– ore 19.00 cena condivisa presso la Sala Trauma (Via degli Olivetani n. 7).\n– ore 21.00 presso la Sala Trauma – Suona campana suona…\nVeglia(S)concerto semi classico \nProgramma di musiche di Fernando Sor\, Frank Martin\, Joaquin Turina\, Bruno Zanella\, Placida Staro\, Ricardo Tomba e di ispirazione tradizionale.\nMargherita Emiliani – chitarra\nBruno Zanella – chitarra e mandolino\nDina Staro – violino\, voce\, chitarra\nRicardo Tomba – percussioni \nA seguire\, dopo la slegatura delle campane\, ballo con i suonatori presenti. \nDomenica 31 marzo\n– ore 10 – 10.30: iscrizioni presso la Sala Comunale.\n– ore 10.30-12.30 / 15.00– 18.00 Corsi residenziali di ballo montanaro\n– ore 21.00 – Sala Comunale. Gran ballo di Pasqua\nCon I Suonatori della Valle del Savena\nNel corso della serata sarà brevemente presentato il concorso “ Giovani sguardi per antichi gesti” 2024 con la proiezione del videoclip di Elisa Amaroli selezionato nel 2023.\nLunedì 1 aprile\n– ore 10.30-12.30 – Sala Comunale – Corsi residenziali di ballo montanaro \nCosti:\n50 € per una giornata\n90 € per due giornate\n120 € per tre giornate \nInformazioni\, iscrizioni e prenotazioni: \nPer iscriverti clicca qui\n– email: info@ebenevengamaggio.it; cellulare: 339 3661488 (Elisa)\, orari: 10-14 /17-\n20\n– Le iscrizioni agli stages di ballo si chiuderanno il giorno 24 marzo 2024 – La cena\ndel sabato sera è condivisa\, si invitano tutti i partecipanti a contribuire.\n.\n– E’ preferibile provvedere in anticipo al pagamento delle quote per gli stages di ballo\nmediante bonifico sul seguente conto: IT 03B0847236930020010006090\, indicando\nla relativa causale.
URL:https://www.ebenevengamaggio.it/index.php/event/corsi-residenziali-sui-balli-antichi-dellappennino-bolognese/
LOCATION:Monghidoro\, Monghidoro\, 40063\, Italia
CATEGORIES:Corsi di danza
ATTACH;FMTTYPE=image/jpeg:https://www.ebenevengamaggio.it/wp-content/uploads/2024/01/pasqua.jpg
ORGANIZER;CN="Associazione Culturale E Bene Venga Maggio":MAILTO:info@ebenevengamaggio.it
END:VEVENT
BEGIN:VEVENT
DTSTART;TZID=Europe/Rome:20240203T200000
DTEND;TZID=Europe/Rome:20240203T233000
DTSTAMP:20260423T032631
CREATED:20240117T092045Z
LAST-MODIFIED:20240117T092125Z
UID:1409-1706990400-1707003000@www.ebenevengamaggio.it
SUMMARY:Veglia di Carnevale
DESCRIPTION:Prima festa a ballo del 2024 con i Suonatori della Valle del Savena: \n🥳🎭 VEGLIA DI CARNEVALE 2024!!! 🥳🎭\nVi aspettiamo in maschera! Sbizzarrite la fantasia! \n…E se avete bisogno di una mano per truccarvi o aggiungere un piccolo tocco divertente al vostro abbigliamento 🎩👑🎭🪭🎊\, venite per tempo nella sala e dalle ore 20 vi aiutiamo noi! \n🚗 Ps. Per chi CERCA/OFFRE un passaggio in auto per raggiungere la festa (per vesempio da Bologna)\, abbiamo messo a disposizione lo spazio “commenti” nel post della nostra pagina facebook per prendere accordi con gli altri partecipanti: \nhttps://m.facebook.com/story.php?story_fbid=pfbid02yEC55LxTCCUcieVjXdewMm5UskkjpfvWZpEQDi5itkEXf3P6dVqbCLEv6xwEEdSwl&id=100064380951521 \nVi aspettiamo numerosi!!!
URL:https://www.ebenevengamaggio.it/index.php/event/veglia-di-carnevale-2/
LOCATION:Sala Comunale di Monghidoro\, Piazza Giacomo Matteotti\, 1\, Monghidoro\, Bologna\, 40063\, Italia
CATEGORIES:Festa da ballo
ATTACH;FMTTYPE=image/jpeg:https://www.ebenevengamaggio.it/wp-content/uploads/2024/01/carnevale-2024_Tavola-disegno-1-scaled.jpg
ORGANIZER;CN="Associazione Culturale E Bene Venga Maggio":MAILTO:info@ebenevengamaggio.it
END:VEVENT
BEGIN:VEVENT
DTSTART;TZID=Europe/Rome:20240110T200000
DTEND;TZID=Europe/Rome:20240110T233000
DTSTAMP:20260423T032631
CREATED:20240110T111343Z
LAST-MODIFIED:20240110T111343Z
UID:1312-1704916800-1704929400@www.ebenevengamaggio.it
SUMMARY:Veglia di Carnevale
DESCRIPTION:Veglia di Carnevale insieme ai Suonatori della Valla del Savena
URL:https://www.ebenevengamaggio.it/index.php/event/veglia-di-carnevale/
LOCATION:Sala Comunale di Monghidoro\, Piazza Giacomo Matteotti\, 1\, Monghidoro\, Bologna\, 40063\, Italia
CATEGORIES:Festa da ballo
ATTACH;FMTTYPE=image/jpeg:https://www.ebenevengamaggio.it/wp-content/uploads/2024/01/hush-naidoo-jade-photography-_Pyzu4BgTa8-unsplash-scaled.jpg
ORGANIZER;CN="Associazione Culturale E Bene Venga Maggio":MAILTO:info@ebenevengamaggio.it
END:VEVENT
BEGIN:VEVENT
DTSTART;TZID=Europe/Rome:20231208T100000
DTEND;TZID=Europe/Rome:20231210T123000
DTSTAMP:20260423T032631
CREATED:20230818T190527Z
LAST-MODIFIED:20230923T103455Z
UID:1201-1702029600-1702211400@www.ebenevengamaggio.it
SUMMARY:E BENE VENGA MAGGIO DANZA D’INVERNO
DESCRIPTION:Corsi residenziali e incontri sul ballo liscio montanaro\n8-9-10 dicembre alla Sala Comunale di Monghidoro \nVenerdi 8 dicembre\n\nore 10:00 – 12:30 / 15:00 – 18:00 Corsi di ballo liscio montanaro e filuzziano\ncon Dina Staro\, Carlo Pelagalli\, Alessandro Bernardini\nore 18:00 Conferenza sul ballo liscio ambrosiano e presentazione del volume: BAUSCIA!\nIl ballo ambrosiano: forme improvvisative\, musica e contesti a\ncura di Romana Barbui e Michele Cavenago\nore 21:00 Veglia d’inverno con Trio filuzziano e I suonatori della\nValle del Savena\n\nSabato 9 dicembre\n\nore 10:00 – 12:30 / 15:00 – 18:00 Corsi di ballo liscio montanaro e filuzziano\ncon Dina Staro\, Carlo Pelagalli\, Alessandro Bernardini\nore 21:00 Veglia d’inverno con La Vaporiera e I suonatori della Valle del Savena\n\nDomenica 10 dicembre\n\nore 10:00 – 12:30 Corso di ballo liscio
URL:https://www.ebenevengamaggio.it/index.php/event/e-bene-venga-maggio-danza-dinverno/
LOCATION:Sala Comunale di Monghidoro\, Piazza Giacomo Matteotti\, 1\, Monghidoro\, Bologna\, 40063\, Italia
CATEGORIES:Festival
ATTACH;FMTTYPE=image/png:https://www.ebenevengamaggio.it/wp-content/uploads/2023/08/cropped-e-bene-venga-maggio-logo-2021-ultima.png
END:VEVENT
BEGIN:VEVENT
DTSTART;TZID=Europe/Rome:20231125T210000
DTEND;TZID=Europe/Rome:20231126T000000
DTSTAMP:20260423T032631
CREATED:20231110T181038Z
LAST-MODIFIED:20231110T181149Z
UID:1296-1700946000-1700956800@www.ebenevengamaggio.it
SUMMARY:Veglia di Santa Cecilia
DESCRIPTION:Testo della veglia di Santa Cecilia
URL:https://www.ebenevengamaggio.it/index.php/event/veglia-di-santa-cecilia/
LOCATION:Sala Comunale di Monghidoro\, Piazza Giacomo Matteotti\, 1\, Monghidoro\, Bologna\, 40063\, Italia
CATEGORIES:Concerti
ATTACH;FMTTYPE=image/png:https://www.ebenevengamaggio.it/wp-content/uploads/2023/08/cropped-e-bene-venga-maggio-logo-2021-ultima.png
ORGANIZER;CN="Associazione Culturale E Bene Venga Maggio":MAILTO:info@ebenevengamaggio.it
END:VEVENT
END:VCALENDAR