BEGIN:VCALENDAR
VERSION:2.0
PRODID:-//e bene venga maggio - ECPv6.15.20//NONSGML v1.0//EN
CALSCALE:GREGORIAN
METHOD:PUBLISH
X-ORIGINAL-URL:https://www.ebenevengamaggio.it
X-WR-CALDESC:Eventi per e bene venga maggio
REFRESH-INTERVAL;VALUE=DURATION:PT1H
X-Robots-Tag:noindex
X-PUBLISHED-TTL:PT1H
BEGIN:VTIMEZONE
TZID:Europe/Rome
BEGIN:DAYLIGHT
TZOFFSETFROM:+0100
TZOFFSETTO:+0200
TZNAME:CEST
DTSTART:20250330T010000
END:DAYLIGHT
BEGIN:STANDARD
TZOFFSETFROM:+0200
TZOFFSETTO:+0100
TZNAME:CET
DTSTART:20251026T010000
END:STANDARD
BEGIN:DAYLIGHT
TZOFFSETFROM:+0100
TZOFFSETTO:+0200
TZNAME:CEST
DTSTART:20260329T010000
END:DAYLIGHT
BEGIN:STANDARD
TZOFFSETFROM:+0200
TZOFFSETTO:+0100
TZNAME:CET
DTSTART:20261025T010000
END:STANDARD
BEGIN:DAYLIGHT
TZOFFSETFROM:+0100
TZOFFSETTO:+0200
TZNAME:CEST
DTSTART:20270328T010000
END:DAYLIGHT
BEGIN:STANDARD
TZOFFSETFROM:+0200
TZOFFSETTO:+0100
TZNAME:CET
DTSTART:20271031T010000
END:STANDARD
END:VTIMEZONE
BEGIN:VEVENT
DTSTART;TZID=Europe/Rome:20260619T080000
DTEND;TZID=Europe/Rome:20260619T170000
DTSTAMP:20260422T004824
CREATED:20260305T163015Z
LAST-MODIFIED:20260305T163015Z
UID:1867-1781856000-1781888400@www.ebenevengamaggio.it
SUMMARY:Festa con AIBI-Talenti
DESCRIPTION:Festa con AIBI-Talenti
URL:https://www.ebenevengamaggio.it/index.php/event/festa-con-aibi-talenti/
END:VEVENT
BEGIN:VEVENT
DTSTART;TZID=Europe/Rome:20260723T080000
DTEND;TZID=Europe/Rome:20260726T170000
DTSTAMP:20260422T004824
CREATED:20260305T160317Z
LAST-MODIFIED:20260305T162103Z
UID:1823-1784793600-1785085200@www.ebenevengamaggio.it
SUMMARY:Festival CHE NON VENISSE MAI GIORNO! 2026: VOCI/VOLTI: suoni e danza tra memoria e bellezza
DESCRIPTION:Festival diffuso di musica e danza tradizionale dell’Appennino bolognese.\nMonghidoro dal 23 al 26 luglio 2026\nL’Associazione culturale “e bene venga maggio” a.p.s. presenta la nuova edizione del Festival “CHE NON VENISSE MAI GIORNO!”\, in programma dal 23 al 26 luglio 2026. Questa edizione del festival è dedicata all’esplorazione dell’evoluzione della danza tradizionale nei moderni contesti contemporanei\, seguendo un ideale percorso da nord a sud che trova il proprio centro nell’Appennino. \nTemi e Protagonisti\nL’edizione 2026 vede la partecipazione di tre gruppi principali e dei loro collaboratori\, che rappresentano una transizione dalla danza rituale del gruppo campano di Montemarano\, passando per la danza sociale-rituale de I Suonatori della Valle del Savena\, fino ai paesaggi neo-trad e bàl folk urbani proposti dai Bifolk. Il programma include laboratori di canto e danza\, aperitivi musicali\, una passeggiata musicale con pranzo e musica libera sull’Alpe\, oltre a una mostra celebrativa per i 50 anni de I Suonatori della Valle del Savena. \nDirezione artistica: Placida Staro\nDirezione organizzativa: Elisa Lorenzini\nCollaboratori: Franco Benni\, Luana Bassi\, soci e volontari dell’Associazione “e bene venga maggio” a.p.s. \nGruppi partecipanti:\n• I Suonatori della Valle del Savena – Emilia-Romagna\n• Bifolk – bàl folk Lombardia-Piemonte\n• Duo Gian e Pier – Emilia-Romagna-Lombardia \nProgramma\nLe Serate\nGiovedì 23 luglio: Piazza del borgo di Piamaggio – Monghidoro (in caso di pioggia: Sala parrocchiale di Piamaggio)\n• I Suonatori della Valle del Savena. Stand con crescentine dalle 19. \nVenerdì 24 luglio: Piazza Cavalier Gitti\, Monghidoro (in caso di pioggia: Sala comunale di Monghidoro)\n• Ore 21:00: Gruppo di Montemarano (Campania)\n• Ore 22:30: Bifolk (Lombardia – Piemonte)\nStand gastronomico attivo dalle 19. \nSabato 25 luglio: Piazza Cavalier Gitti\, Monghidoro (in caso di pioggia: Sala comunale di Monghidoro)\n• Ore 21:00: I Suonatori della Valle del Savena (Emilia-Romagna)\n• Ore 22:15: Gruppo di Montemarano (Campania)\n• Ore 23:30: Bifolk (Lombardia-Piemonte)\nStand gastronomico attivo dalle 19. \nLe Giornate\nVenerdì 24 luglio\n• 10:00-12:00 – Sala comunale\, Monghidoro: Laboratorio di danza “I balli antichi staccati della Valle del Savena” con Elisa Lorenzini e I Suonatori della Valle del Savena\n• 12:00-13:00 – Musica itinerante. Aperitivo al bar del Corso con Gian e Pier (arie da liscio)\n• 15:00-17:00 – Laboratorio di Tarantella Montemaranese in cerchio \nSabato 25 luglio\n• 10:00-12:00 – Sala comunale\, Monghidoro: Laboratorio di danza “I balli antichi staccati della Valle del Savena” con Elisa Lorenzini e I Suonatori della Valle del Savena\n• 12:00-13:00 – Musica itinerante. Aperitivo al bar Centrale con il gruppo di Montemarano\n• 15:00-17:00 – Laboratorio di Tarantella Montemaranese in coppia\n• 17:30-18:30 – Musica itinerante. Aperitivo al Bar Pineta con Bifolk \nDomenica 26 luglio – Rifugio del Fantorno\, Via San Pietro 70 – Alpe di Monghidoro\n• Ore 10:00: TANA LIBERA TUTTI! Passeggiata tra i boschi dell’Alpe insieme ai musicisti del Festival\n• Ore 12:30: Croce dell’Alpe\, Alpe di Monghidoro – Cantiamo… pranzando! Pic-nic libero e condiviso di canto e ballo con i musicisti del Festival\n(In caso di maltempo la giornata sarà annullata) \nCosti\n• Intero festival: €120\,00 (include concerti e laboratori di danza)\n• Due giornate (venerdì e sabato): €90\n• Una giornata (venerdì o sabato): €50\,00 \nIscrizioni e Informazioni\nLe iscrizioni chiuderanno il 15 luglio 2026.\nPer informazioni e iscrizioni:\nEmail: eliloren@hotmail.it\nCellulare: 3393661488 (Elisa) – orari: 10-14 / 17-20
URL:https://www.ebenevengamaggio.it/index.php/event/festival-che-non-venisse-mai-giorno-2026-voci-volti-suoni-e-danza-tra-memoria-e-bellezza/
LOCATION:Monghidoro\, Monghidoro\, 40063\, Italia
CATEGORIES:Concerti,Corsi di danza,Festival
ORGANIZER;CN="Associazione Culturale E Bene Venga Maggio":MAILTO:info@ebenevengamaggio.it
END:VEVENT
BEGIN:VEVENT
DTSTART;TZID=Europe/Rome:20260816T210000
DTEND;TZID=Europe/Rome:20260816T210000
DTSTAMP:20260422T004824
CREATED:20260305T163202Z
LAST-MODIFIED:20260305T164320Z
UID:1871-1786914000-1786914000@www.ebenevengamaggio.it
SUMMARY:I Resti della Festa
DESCRIPTION:Concerto di comunità \nLuogo: Piazza Gitti\, Monghidoro \nOre: 21.00
URL:https://www.ebenevengamaggio.it/index.php/event/i-resti-della-festa-2/
CATEGORIES:Concerti
END:VEVENT
BEGIN:VEVENT
DTSTART;TZID=Europe/Rome:20261030T100000
DTEND;TZID=Europe/Rome:20261101T170000
DTSTAMP:20260422T004824
CREATED:20260305T164738Z
LAST-MODIFIED:20260305T164738Z
UID:1881-1793354400-1793552400@www.ebenevengamaggio.it
SUMMARY:Stage residenziale sul ballo liscio
DESCRIPTION:Stage residenziale sul ballo liscio\, a breve il programma!
URL:https://www.ebenevengamaggio.it/index.php/event/stage-residenziale-sul-ballo-liscio/
CATEGORIES:Corsi di danza
END:VEVENT
END:VCALENDAR