BEGIN:VCALENDAR
VERSION:2.0
PRODID:-//e bene venga maggio - ECPv6.15.20//NONSGML v1.0//EN
CALSCALE:GREGORIAN
METHOD:PUBLISH
X-WR-CALNAME:e bene venga maggio
X-ORIGINAL-URL:https://www.ebenevengamaggio.it
X-WR-CALDESC:Eventi per e bene venga maggio
REFRESH-INTERVAL;VALUE=DURATION:PT1H
X-Robots-Tag:noindex
X-PUBLISHED-TTL:PT1H
BEGIN:VTIMEZONE
TZID:Europe/Rome
BEGIN:DAYLIGHT
TZOFFSETFROM:+0100
TZOFFSETTO:+0200
TZNAME:CEST
DTSTART:20240331T010000
END:DAYLIGHT
BEGIN:STANDARD
TZOFFSETFROM:+0200
TZOFFSETTO:+0100
TZNAME:CET
DTSTART:20241027T010000
END:STANDARD
BEGIN:DAYLIGHT
TZOFFSETFROM:+0100
TZOFFSETTO:+0200
TZNAME:CEST
DTSTART:20250330T010000
END:DAYLIGHT
BEGIN:STANDARD
TZOFFSETFROM:+0200
TZOFFSETTO:+0100
TZNAME:CET
DTSTART:20251026T010000
END:STANDARD
BEGIN:DAYLIGHT
TZOFFSETFROM:+0100
TZOFFSETTO:+0200
TZNAME:CEST
DTSTART:20260329T010000
END:DAYLIGHT
BEGIN:STANDARD
TZOFFSETFROM:+0200
TZOFFSETTO:+0100
TZNAME:CET
DTSTART:20261025T010000
END:STANDARD
END:VTIMEZONE
BEGIN:VEVENT
DTSTART;TZID=Europe/Rome:20251030T210000
DTEND;TZID=Europe/Rome:20251030T210000
DTSTAMP:20260422T041543
CREATED:20250513T141818Z
LAST-MODIFIED:20250513T141823Z
UID:1744-1761858000-1761858000@www.ebenevengamaggio.it
SUMMARY:“Evocando suoni” Videoproiezione sui suoni delle tradizioni
DESCRIPTION:giovedì 30 OTTOBRE\n“Evocando suoni” Videoproiezione sui suoni delle tradizioni\nore 21.00\, al Cinema Aurora\, Monghidoro (BO)
URL:https://www.ebenevengamaggio.it/index.php/event/evocando-suoni-videoproiezione-sui-suoni-delle-tradizioni/
LOCATION:Cinema Aurora\, Monghidoro (Bo)\, Via Vittorio Emanuele II\, 37/39\,\, Monghidoro BO\, 40063
CATEGORIES:Videoproiezione
ORGANIZER;CN="Associazione Culturale E Bene Venga Maggio":MAILTO:info@ebenevengamaggio.it
END:VEVENT
BEGIN:VEVENT
DTSTART;TZID=Europe/Rome:20250717T210000
DTEND;TZID=Europe/Rome:20250717T210000
DTSTAMP:20260422T041543
CREATED:20250513T140920Z
LAST-MODIFIED:20250513T141559Z
UID:1731-1752786000-1752786000@www.ebenevengamaggio.it
SUMMARY:Proiezione del Documentario “Civiltà Contadina. La fine di un’era”
DESCRIPTION:giovedì 17 LUGLIO\nProiezione del Documentario “Civiltà Contadina. La fine di un’era” di Claudio Spottl \nore 21.00\, Cinema Vittoria\, Loiano (BO)\nSpettacolo finale con I suonatori della Valle del Savena e Federico Berti
URL:https://www.ebenevengamaggio.it/index.php/event/proiezione-del-documentario-civilta-contadina-la-fine-di-unera/
LOCATION:Cinema Vittoria\, Loiano (BO)\, Via Roma 5\, Loiano BO\, 40050
CATEGORIES:Videoproiezione
ORGANIZER;CN="Associazione Culturale E Bene Venga Maggio":MAILTO:info@ebenevengamaggio.it
END:VEVENT
BEGIN:VEVENT
DTSTART;TZID=Europe/Rome:20250420T180000
DTEND;TZID=Europe/Rome:20250420T190000
DTSTAMP:20260422T041543
CREATED:20250414T211012Z
LAST-MODIFIED:20250416T093606Z
UID:1641-1745172000-1745175600@www.ebenevengamaggio.it
SUMMARY:Videoproiezione “50 e oltre… I Suonatori della valle del Savena”
DESCRIPTION:Videoproiezione “50 e oltre… I Suonatori della valle del Savena” ore 18.00 presso la Sala Comunale\, Monghidoro (Bologna)
URL:https://www.ebenevengamaggio.it/index.php/event/videoproiezione-50-e-oltre-i-suonatori-della-valle-del-savena-2/
LOCATION:Sala Comunale di Monghidoro\, Piazza Giacomo Matteotti\, 1\, Monghidoro\, Bologna\, 40063\, Italia
CATEGORIES:Videoproiezione
ORGANIZER;CN="Associazione Culturale E Bene Venga Maggio":MAILTO:info@ebenevengamaggio.it
END:VEVENT
BEGIN:VEVENT
DTSTART;TZID=Europe/Rome:20250419T180000
DTEND;TZID=Europe/Rome:20250419T190000
DTSTAMP:20260422T041543
CREATED:20250414T202145Z
LAST-MODIFIED:20250416T093630Z
UID:1636-1745085600-1745089200@www.ebenevengamaggio.it
SUMMARY:Videoproiezione “50 e oltre… I Suonatori  della valle del Savena”
DESCRIPTION:Videoproiezione “50 e oltre… I Suonatori della valle del Savena” \nore 18.00 presso la Sala Comunale\, Monghidoro (Bologna)
URL:https://www.ebenevengamaggio.it/index.php/event/videoproiezione-50-e-oltre-i-suonatori-della-valle-del-savena/
LOCATION:Sala Comunale di Monghidoro\, Piazza Giacomo Matteotti\, 1\, Monghidoro\, Bologna\, 40063\, Italia
CATEGORIES:Videoproiezione
ORGANIZER;CN="Associazione Culturale E Bene Venga Maggio":MAILTO:info@ebenevengamaggio.it
END:VEVENT
END:VCALENDAR