BEGIN:VCALENDAR
VERSION:2.0
PRODID:-//e bene venga maggio - ECPv6.15.20//NONSGML v1.0//EN
CALSCALE:GREGORIAN
METHOD:PUBLISH
X-ORIGINAL-URL:https://www.ebenevengamaggio.it
X-WR-CALDESC:Eventi per e bene venga maggio
REFRESH-INTERVAL;VALUE=DURATION:PT1H
X-Robots-Tag:noindex
X-PUBLISHED-TTL:PT1H
BEGIN:VTIMEZONE
TZID:Europe/Rome
BEGIN:DAYLIGHT
TZOFFSETFROM:+0100
TZOFFSETTO:+0200
TZNAME:CEST
DTSTART:20230326T010000
END:DAYLIGHT
BEGIN:STANDARD
TZOFFSETFROM:+0200
TZOFFSETTO:+0100
TZNAME:CET
DTSTART:20231029T010000
END:STANDARD
BEGIN:DAYLIGHT
TZOFFSETFROM:+0100
TZOFFSETTO:+0200
TZNAME:CEST
DTSTART:20240331T010000
END:DAYLIGHT
BEGIN:STANDARD
TZOFFSETFROM:+0200
TZOFFSETTO:+0100
TZNAME:CET
DTSTART:20241027T010000
END:STANDARD
BEGIN:DAYLIGHT
TZOFFSETFROM:+0100
TZOFFSETTO:+0200
TZNAME:CEST
DTSTART:20250330T010000
END:DAYLIGHT
BEGIN:STANDARD
TZOFFSETFROM:+0200
TZOFFSETTO:+0100
TZNAME:CET
DTSTART:20251026T010000
END:STANDARD
END:VTIMEZONE
BEGIN:VEVENT
DTSTART;TZID=Europe/Rome:20240808T203000
DTEND;TZID=Europe/Rome:20240808T203000
DTSTAMP:20260423T124008
CREATED:20240628T101857Z
LAST-MODIFIED:20240703T112834Z
UID:1520-1723149000-1723149000@www.ebenevengamaggio.it
SUMMARY:Borghi in festa - Borgo Pian dei Grilli
DESCRIPTION:08 Agosto 2024\nBorgo di Pian De’ Grilli Monghidoro (BO)\nOre 20\,30 con I Suonatori della Valle del Savena
URL:https://www.ebenevengamaggio.it/index.php/event/borghi-in-festa-borgo-pian-dei-grilli/
LOCATION:Bologna
CATEGORIES:Concerti,Festa da ballo,Sagra
END:VEVENT
END:VCALENDAR