BEGIN:VCALENDAR
VERSION:2.0
PRODID:-//e bene venga maggio - ECPv6.15.20//NONSGML v1.0//EN
CALSCALE:GREGORIAN
METHOD:PUBLISH
X-ORIGINAL-URL:https://www.ebenevengamaggio.it
X-WR-CALDESC:Eventi per e bene venga maggio
REFRESH-INTERVAL;VALUE=DURATION:PT1H
X-Robots-Tag:noindex
X-PUBLISHED-TTL:PT1H
BEGIN:VTIMEZONE
TZID:Europe/Rome
BEGIN:DAYLIGHT
TZOFFSETFROM:+0100
TZOFFSETTO:+0200
TZNAME:CEST
DTSTART:20230326T010000
END:DAYLIGHT
BEGIN:STANDARD
TZOFFSETFROM:+0200
TZOFFSETTO:+0100
TZNAME:CET
DTSTART:20231029T010000
END:STANDARD
BEGIN:DAYLIGHT
TZOFFSETFROM:+0100
TZOFFSETTO:+0200
TZNAME:CEST
DTSTART:20240331T010000
END:DAYLIGHT
BEGIN:STANDARD
TZOFFSETFROM:+0200
TZOFFSETTO:+0100
TZNAME:CET
DTSTART:20241027T010000
END:STANDARD
BEGIN:DAYLIGHT
TZOFFSETFROM:+0100
TZOFFSETTO:+0200
TZNAME:CEST
DTSTART:20250330T010000
END:DAYLIGHT
BEGIN:STANDARD
TZOFFSETFROM:+0200
TZOFFSETTO:+0100
TZNAME:CET
DTSTART:20251026T010000
END:STANDARD
END:VTIMEZONE
BEGIN:VEVENT
DTSTART;TZID=Europe/Rome:20241031T200000
DTEND;TZID=Europe/Rome:20241031T233000
DTSTAMP:20260423T074716
CREATED:20240110T143658Z
LAST-MODIFIED:20240110T143658Z
UID:1330-1730404800-1730417400@www.ebenevengamaggio.it
SUMMARY:Veglia dei “becchi” 
DESCRIPTION:Veglia dei “becchi”
URL:https://www.ebenevengamaggio.it/index.php/event/veglia-dei-becchi/
LOCATION:Bologna
CATEGORIES:Festa da ballo
END:VEVENT
END:VCALENDAR