BEGIN:VCALENDAR
VERSION:2.0
PRODID:-//e bene venga maggio - ECPv6.15.20//NONSGML v1.0//EN
CALSCALE:GREGORIAN
METHOD:PUBLISH
X-WR-CALNAME:e bene venga maggio
X-ORIGINAL-URL:https://www.ebenevengamaggio.it
X-WR-CALDESC:Eventi per e bene venga maggio
REFRESH-INTERVAL;VALUE=DURATION:PT1H
X-Robots-Tag:noindex
X-PUBLISHED-TTL:PT1H
BEGIN:VTIMEZONE
TZID:Europe/Rome
BEGIN:DAYLIGHT
TZOFFSETFROM:+0100
TZOFFSETTO:+0200
TZNAME:CEST
DTSTART:20230326T010000
END:DAYLIGHT
BEGIN:STANDARD
TZOFFSETFROM:+0200
TZOFFSETTO:+0100
TZNAME:CET
DTSTART:20231029T010000
END:STANDARD
BEGIN:DAYLIGHT
TZOFFSETFROM:+0100
TZOFFSETTO:+0200
TZNAME:CEST
DTSTART:20240331T010000
END:DAYLIGHT
BEGIN:STANDARD
TZOFFSETFROM:+0200
TZOFFSETTO:+0100
TZNAME:CET
DTSTART:20241027T010000
END:STANDARD
BEGIN:DAYLIGHT
TZOFFSETFROM:+0100
TZOFFSETTO:+0200
TZNAME:CEST
DTSTART:20250330T010000
END:DAYLIGHT
BEGIN:STANDARD
TZOFFSETFROM:+0200
TZOFFSETTO:+0100
TZNAME:CET
DTSTART:20251026T010000
END:STANDARD
END:VTIMEZONE
BEGIN:VEVENT
DTSTART;TZID=Europe/Rome:20240203T200000
DTEND;TZID=Europe/Rome:20240203T233000
DTSTAMP:20260423T200353
CREATED:20240117T092045Z
LAST-MODIFIED:20240117T092125Z
UID:1409-1706990400-1707003000@www.ebenevengamaggio.it
SUMMARY:Veglia di Carnevale
DESCRIPTION:Prima festa a ballo del 2024 con i Suonatori della Valle del Savena: \n🥳🎭 VEGLIA DI CARNEVALE 2024!!! 🥳🎭\nVi aspettiamo in maschera! Sbizzarrite la fantasia! \n…E se avete bisogno di una mano per truccarvi o aggiungere un piccolo tocco divertente al vostro abbigliamento 🎩👑🎭🪭🎊\, venite per tempo nella sala e dalle ore 20 vi aiutiamo noi! \n🚗 Ps. Per chi CERCA/OFFRE un passaggio in auto per raggiungere la festa (per vesempio da Bologna)\, abbiamo messo a disposizione lo spazio “commenti” nel post della nostra pagina facebook per prendere accordi con gli altri partecipanti: \nhttps://m.facebook.com/story.php?story_fbid=pfbid02yEC55LxTCCUcieVjXdewMm5UskkjpfvWZpEQDi5itkEXf3P6dVqbCLEv6xwEEdSwl&id=100064380951521 \nVi aspettiamo numerosi!!!
URL:https://www.ebenevengamaggio.it/index.php/event/veglia-di-carnevale-2/
LOCATION:Sala Comunale di Monghidoro\, Piazza Giacomo Matteotti\, 1\, Monghidoro\, Bologna\, 40063\, Italia
CATEGORIES:Festa da ballo
ATTACH;FMTTYPE=image/jpeg:https://www.ebenevengamaggio.it/wp-content/uploads/2024/01/carnevale-2024_Tavola-disegno-1-scaled.jpg
ORGANIZER;CN="Associazione Culturale E Bene Venga Maggio":MAILTO:info@ebenevengamaggio.it
END:VEVENT
END:VCALENDAR