BEGIN:VCALENDAR
VERSION:2.0
PRODID:-//e bene venga maggio - ECPv6.15.20//NONSGML v1.0//EN
CALSCALE:GREGORIAN
METHOD:PUBLISH
X-WR-CALNAME:e bene venga maggio
X-ORIGINAL-URL:https://www.ebenevengamaggio.it
X-WR-CALDESC:Eventi per e bene venga maggio
REFRESH-INTERVAL;VALUE=DURATION:PT1H
X-Robots-Tag:noindex
X-PUBLISHED-TTL:PT1H
BEGIN:VTIMEZONE
TZID:Europe/Rome
BEGIN:DAYLIGHT
TZOFFSETFROM:+0100
TZOFFSETTO:+0200
TZNAME:CEST
DTSTART:20240331T010000
END:DAYLIGHT
BEGIN:STANDARD
TZOFFSETFROM:+0200
TZOFFSETTO:+0100
TZNAME:CET
DTSTART:20241027T010000
END:STANDARD
BEGIN:DAYLIGHT
TZOFFSETFROM:+0100
TZOFFSETTO:+0200
TZNAME:CEST
DTSTART:20250330T010000
END:DAYLIGHT
BEGIN:STANDARD
TZOFFSETFROM:+0200
TZOFFSETTO:+0100
TZNAME:CET
DTSTART:20251026T010000
END:STANDARD
BEGIN:DAYLIGHT
TZOFFSETFROM:+0100
TZOFFSETTO:+0200
TZNAME:CEST
DTSTART:20260329T010000
END:DAYLIGHT
BEGIN:STANDARD
TZOFFSETFROM:+0200
TZOFFSETTO:+0100
TZNAME:CET
DTSTART:20261025T010000
END:STANDARD
END:VTIMEZONE
BEGIN:VEVENT
DTSTART;TZID=Europe/Rome:20250326T203000
DTEND;TZID=Europe/Rome:20250507T233000
DTSTAMP:20260422T221209
CREATED:20250303T181704Z
LAST-MODIFIED:20250303T181713Z
UID:1617-1743021000-1746660600@www.ebenevengamaggio.it
SUMMARY:Bàl Stàc\, Corso di ballo antico montanaro
DESCRIPTION:Bàl Stàc\, Corso di ballo antico montanaro\nCorso principianti condotto da Elisa Lorenzini e Carolina Conventi e corso avanzati condotto da Placida Staro \nDOVE: a Monghidoro (Bologna)\, nella Sala del Comune\, via Matteotti 1\, e in Sala Trama\, via degli Olivetani 7. \nQUANDO: Tutti i mercoledì dalle 20.30\, dal 26 marzo al 7 maggio. \nCOSTI: 60€ per 6 incontri + il costo della tessera associativa con validità annuale. \nPER INFORMAZIONI E ISCRIZIONI: info@ebenevengamaggio.it\n339 3661488 (Elisa orari: 10-14 /17-20)
URL:https://www.ebenevengamaggio.it/index.php/event/corso-di-balli-staccati-montanari/
LOCATION:Sala Comunale di Monghidoro\, Piazza Giacomo Matteotti\, 1\, Monghidoro\, Bologna\, 40063\, Italia
CATEGORIES:Corsi di danza
ORGANIZER;CN="Associazione Culturale E Bene Venga Maggio":MAILTO:info@ebenevengamaggio.it
END:VEVENT
END:VCALENDAR