BEGIN:VCALENDAR
VERSION:2.0
PRODID:-//e bene venga maggio - ECPv6.15.20//NONSGML v1.0//EN
CALSCALE:GREGORIAN
METHOD:PUBLISH
X-WR-CALNAME:e bene venga maggio
X-ORIGINAL-URL:https://www.ebenevengamaggio.it
X-WR-CALDESC:Eventi per e bene venga maggio
REFRESH-INTERVAL;VALUE=DURATION:PT1H
X-Robots-Tag:noindex
X-PUBLISHED-TTL:PT1H
BEGIN:VTIMEZONE
TZID:Europe/Rome
BEGIN:DAYLIGHT
TZOFFSETFROM:+0100
TZOFFSETTO:+0200
TZNAME:CEST
DTSTART:20230326T010000
END:DAYLIGHT
BEGIN:STANDARD
TZOFFSETFROM:+0200
TZOFFSETTO:+0100
TZNAME:CET
DTSTART:20231029T010000
END:STANDARD
BEGIN:DAYLIGHT
TZOFFSETFROM:+0100
TZOFFSETTO:+0200
TZNAME:CEST
DTSTART:20240331T010000
END:DAYLIGHT
BEGIN:STANDARD
TZOFFSETFROM:+0200
TZOFFSETTO:+0100
TZNAME:CET
DTSTART:20241027T010000
END:STANDARD
BEGIN:DAYLIGHT
TZOFFSETFROM:+0100
TZOFFSETTO:+0200
TZNAME:CEST
DTSTART:20250330T010000
END:DAYLIGHT
BEGIN:STANDARD
TZOFFSETFROM:+0200
TZOFFSETTO:+0100
TZNAME:CET
DTSTART:20251026T010000
END:STANDARD
END:VTIMEZONE
BEGIN:VEVENT
DTSTART;TZID=Europe/Rome:20240924T183000
DTEND;TZID=Europe/Rome:20240924T203000
DTSTAMP:20260422T011330
CREATED:20240917T180234Z
LAST-MODIFIED:20240917T180234Z
UID:1566-1727202600-1727209800@www.ebenevengamaggio.it
SUMMARY:Laboratorio di canto corale
DESCRIPTION:Da martedì 24 settembre\, per il secondo anno\, inizia il Laboratorio di Canto corale\, tenuto da Diego Dobrilla. \nIn via degli Olivetani 7\, Monghidoro (Bologna)\ndalle 18.30 alle 20.30 \nPartecipazione gratuita con tesseramento all’Associazione \nPer informazioni: 3312200986 Diego\, info@ebenevengamaggio.it
URL:https://www.ebenevengamaggio.it/index.php/event/laboratorio-di-canto-corale/
LOCATION:via degli Olivetani 7\, Monghidoro\, via degli Olivetani 7\, Monghidoro\, Italia\, 40063\, Italia
CATEGORIES:canto,Corso di canto
END:VEVENT
BEGIN:VEVENT
DTSTART;TZID=Europe/Rome:20240430T080000
DTEND;TZID=Europe/Rome:20240501T200000
DTSTAMP:20260422T011330
CREATED:20240110T112730Z
LAST-MODIFIED:20240110T112730Z
UID:1320-1714464000-1714593600@www.ebenevengamaggio.it
SUMMARY:Canto del Maggio
DESCRIPTION:Canto del maggio per le vie del paese
URL:https://www.ebenevengamaggio.it/index.php/event/canto-del-maggio/
LOCATION:Monghidoro\, Monghidoro\, 40063\, Italia
CATEGORIES:canto
ATTACH;FMTTYPE=image/jpeg:https://www.ebenevengamaggio.it/wp-content/uploads/2023/04/339103705_953468786071871_4308901989438140010_n.jpg
ORGANIZER;CN="Associazione Culturale E Bene Venga Maggio":MAILTO:info@ebenevengamaggio.it
END:VEVENT
END:VCALENDAR