BEGIN:VCALENDAR
VERSION:2.0
PRODID:-//e bene venga maggio - ECPv6.15.20//NONSGML v1.0//EN
CALSCALE:GREGORIAN
METHOD:PUBLISH
X-WR-CALNAME:e bene venga maggio
X-ORIGINAL-URL:https://www.ebenevengamaggio.it
X-WR-CALDESC:Eventi per e bene venga maggio
REFRESH-INTERVAL;VALUE=DURATION:PT1H
X-Robots-Tag:noindex
X-PUBLISHED-TTL:PT1H
BEGIN:VTIMEZONE
TZID:Europe/Rome
BEGIN:DAYLIGHT
TZOFFSETFROM:+0100
TZOFFSETTO:+0200
TZNAME:CEST
DTSTART:20250330T010000
END:DAYLIGHT
BEGIN:STANDARD
TZOFFSETFROM:+0200
TZOFFSETTO:+0100
TZNAME:CET
DTSTART:20251026T010000
END:STANDARD
BEGIN:DAYLIGHT
TZOFFSETFROM:+0100
TZOFFSETTO:+0200
TZNAME:CEST
DTSTART:20260329T010000
END:DAYLIGHT
BEGIN:STANDARD
TZOFFSETFROM:+0200
TZOFFSETTO:+0100
TZNAME:CET
DTSTART:20261025T010000
END:STANDARD
BEGIN:DAYLIGHT
TZOFFSETFROM:+0100
TZOFFSETTO:+0200
TZNAME:CEST
DTSTART:20270328T010000
END:DAYLIGHT
BEGIN:STANDARD
TZOFFSETFROM:+0200
TZOFFSETTO:+0100
TZNAME:CET
DTSTART:20271031T010000
END:STANDARD
END:VTIMEZONE
BEGIN:VEVENT
DTSTART;TZID=Europe/Rome:20260419T080000
DTEND;TZID=Europe/Rome:20260419T170000
DTSTAMP:20260421T214942
CREATED:20260305T161521Z
LAST-MODIFIED:20260305T161521Z
UID:1838-1776585600-1776618000@www.ebenevengamaggio.it
SUMMARY:Cercanti d’erbe… Conoscenza e Raccolta di piante selvatiche commestibili
DESCRIPTION:Con Morena Gamberini\, Maria Claudia Lorenzini e Maria Carrugi. \nDomenica 19 aprile 2026 \n\nore 8\,30\, ritrovo presso il Museo della Civiltà contadina di Piamaggio (Via Provinciale):\nillustrazione e caratteristiche delle principali piante selvatiche commestibili\nricette della tradizione\nore 9\,30 ricerca e raccolta delle piante nei prati sotto Piamaggio\nSi consiglia: di venire con abbigliamento e scarponcini adeguati a camminate;\ndi portare con sè un cesto o contenitore comodo e un coltello.\n\nQuota di partecipazione: € 10\,00 \nPer info e iscrizioni:\ncellulare 329 6975926 o info@ebenevengamaggio.it entro il 12/4. \nIn caso di maltempo l’iniziativa verrà rinviata a Domenica 26 aprile con lo stesso programma
URL:https://www.ebenevengamaggio.it/index.php/event/cercanti-derbe-conoscenza-e-raccolta-di-piante-selvatiche-commestibili/
LOCATION:piamaggio\, Piamaggio\, Monghidoro (BO)
END:VEVENT
END:VCALENDAR