BEGIN:VCALENDAR
VERSION:2.0
PRODID:-//e bene venga maggio - ECPv6.15.20//NONSGML v1.0//EN
CALSCALE:GREGORIAN
METHOD:PUBLISH
X-ORIGINAL-URL:https://www.ebenevengamaggio.it
X-WR-CALDESC:Eventi per e bene venga maggio
REFRESH-INTERVAL;VALUE=DURATION:PT1H
X-Robots-Tag:noindex
X-PUBLISHED-TTL:PT1H
BEGIN:VTIMEZONE
TZID:Europe/Rome
BEGIN:DAYLIGHT
TZOFFSETFROM:+0100
TZOFFSETTO:+0200
TZNAME:CEST
DTSTART:20240331T010000
END:DAYLIGHT
BEGIN:STANDARD
TZOFFSETFROM:+0200
TZOFFSETTO:+0100
TZNAME:CET
DTSTART:20241027T010000
END:STANDARD
BEGIN:DAYLIGHT
TZOFFSETFROM:+0100
TZOFFSETTO:+0200
TZNAME:CEST
DTSTART:20250330T010000
END:DAYLIGHT
BEGIN:STANDARD
TZOFFSETFROM:+0200
TZOFFSETTO:+0100
TZNAME:CET
DTSTART:20251026T010000
END:STANDARD
BEGIN:DAYLIGHT
TZOFFSETFROM:+0100
TZOFFSETTO:+0200
TZNAME:CEST
DTSTART:20260329T010000
END:DAYLIGHT
BEGIN:STANDARD
TZOFFSETFROM:+0200
TZOFFSETTO:+0100
TZNAME:CET
DTSTART:20261025T010000
END:STANDARD
END:VTIMEZONE
BEGIN:VEVENT
DTSTART;TZID=Europe/Rome:20250401T080000
DTEND;TZID=Europe/Rome:20251030T170000
DTSTAMP:20260426T014659
CREATED:20250415T104558Z
LAST-MODIFIED:20250418T135741Z
UID:1664-1743494400-1761843600@www.ebenevengamaggio.it
SUMMARY:Premio Giovani sguardi per antichi gesti 2025 - “Evocando suoni”
DESCRIPTION:Giovani sguardi per antichi gesti 2025 – “Evocando suoni”\nCon la III edizione del premio « Giovani sguardi per antichi gesti » quest’anno ti invitiamo a condividere sguardi ancora capaci di sorpresa e meraviglia che riescano a regalare i segni e il senso di sorpresa e condivisione che costituiscono l’esperienza del suonare. \n“Evocando suoni” è il tema di questa terza edizione di un premio rivolto ai giovani e dedicato alla memoria di Giorgio Polmoni\, che con il suo sguardo poetico e la sua determinazione incrollabile ha documentato il territorio della montagna bolognese e i suoi protagonisti. Basta uno scatto\, un corto\, un’immagine per condividere con noi la tua emozione. \nRiservato ai minori di anni 30. \nPartecipa dal 1 aprile al 30 ottobre!\nInviaci una foto\, un video o un corto e contribuisci a portare avanti la tradizione vista da nuovi occhi! \nPREMIO: 200€ \nTutte le info sulla pagina del Premio Giovani sguardi per antichi gesti 2025
URL:https://www.ebenevengamaggio.it/index.php/event/premio-giovani-sguardi-per-antichi-gesti-2025-evocando-suoni/
LOCATION:Monghidoro\, Monghidoro\, 40063\, Italia
CATEGORIES:Concorso
ORGANIZER;CN="Associazione Culturale E Bene Venga Maggio":MAILTO:info@ebenevengamaggio.it
END:VEVENT
BEGIN:VEVENT
DTSTART;TZID=Europe/Rome:20250923T180000
DTEND;TZID=Europe/Rome:20251028T170000
DTSTAMP:20260426T014659
CREATED:20250513T135116Z
LAST-MODIFIED:20250513T135116Z
UID:1711-1758650400-1761670800@www.ebenevengamaggio.it
SUMMARY:Laboratorio “Il canto del Maggio”
DESCRIPTION:Da martedì 23 settembre al 28 ottobre 2025\nLaboratorio “Il canto del Maggio” condotto da Diego Dobrilla\n6 incontri di canto corale\nSede Piccola Scuola di Musica\, in via Olivetani 7 Monghidoro (BO)\, ore 18.00
URL:https://www.ebenevengamaggio.it/index.php/event/laboratorio-il-canto-del-maggio/
LOCATION:via degli Olivetani 7\, Monghidoro\, via degli Olivetani 7\, Monghidoro\, Italia\, 40063\, Italia
CATEGORIES:Corso di canto
ORGANIZER;CN="Associazione Culturale E Bene Venga Maggio":MAILTO:info@ebenevengamaggio.it
END:VEVENT
BEGIN:VEVENT
DTSTART;TZID=Europe/Rome:20250924T203000
DTEND;TZID=Europe/Rome:20251029T170000
DTSTAMP:20260426T014659
CREATED:20250513T135311Z
LAST-MODIFIED:20250513T135311Z
UID:1713-1758745800-1761757200@www.ebenevengamaggio.it
SUMMARY:Corso di balli staccati antichi
DESCRIPTION:Da mercoledì 24 settembre al 29 ottobre\nCorso di balli staccati antichi\ncondotto da Elisa Lorenzini\, Carolina Conventi e Dina Staro \n6 incontri di mercoledì\nSala comunale\, Monghidoro (BO)\nore 20.30 \nCosto: 60€ per 6 incontri
URL:https://www.ebenevengamaggio.it/index.php/event/corso-di-balli-staccati-antichi-2/
LOCATION:Sala Comunale di Monghidoro\, Piazza Giacomo Matteotti\, 1\, Monghidoro\, Bologna\, 40063\, Italia
CATEGORIES:Corsi di danza
ORGANIZER;CN="Associazione Culturale E Bene Venga Maggio":MAILTO:info@ebenevengamaggio.it
END:VEVENT
END:VCALENDAR